BEGIN:VCALENDAR
VERSION:2.0
PRODID:-//Minnesota Teach Ag - ECPv6.15.20//NONSGML v1.0//EN
CALSCALE:GREGORIAN
METHOD:PUBLISH
X-WR-CALNAME:Minnesota Teach Ag
X-ORIGINAL-URL:https://teachagmn.org
X-WR-CALDESC:Events for Minnesota Teach Ag
REFRESH-INTERVAL;VALUE=DURATION:PT1H
X-Robots-Tag:noindex
X-PUBLISHED-TTL:PT1H
BEGIN:VTIMEZONE
TZID:America/Chicago
BEGIN:DAYLIGHT
TZOFFSETFROM:-0600
TZOFFSETTO:-0500
TZNAME:CDT
DTSTART:20230312T080000
END:DAYLIGHT
BEGIN:STANDARD
TZOFFSETFROM:-0500
TZOFFSETTO:-0600
TZNAME:CST
DTSTART:20231105T070000
END:STANDARD
BEGIN:DAYLIGHT
TZOFFSETFROM:-0600
TZOFFSETTO:-0500
TZNAME:CDT
DTSTART:20240310T080000
END:DAYLIGHT
BEGIN:STANDARD
TZOFFSETFROM:-0500
TZOFFSETTO:-0600
TZNAME:CST
DTSTART:20241103T070000
END:STANDARD
BEGIN:DAYLIGHT
TZOFFSETFROM:-0600
TZOFFSETTO:-0500
TZNAME:CDT
DTSTART:20250309T080000
END:DAYLIGHT
BEGIN:STANDARD
TZOFFSETFROM:-0500
TZOFFSETTO:-0600
TZNAME:CST
DTSTART:20251102T070000
END:STANDARD
BEGIN:DAYLIGHT
TZOFFSETFROM:-0600
TZOFFSETTO:-0500
TZNAME:CDT
DTSTART:20260308T080000
END:DAYLIGHT
BEGIN:STANDARD
TZOFFSETFROM:-0500
TZOFFSETTO:-0600
TZNAME:CST
DTSTART:20261101T070000
END:STANDARD
END:VTIMEZONE
BEGIN:VEVENT
DTSTART;TZID=America/Chicago:20251013T080000
DTEND;TZID=America/Chicago:20251013T170000
DTSTAMP:20260424T104730
CREATED:20251013T195031Z
LAST-MODIFIED:20251013T195112Z
UID:17857-1760342400-1760374800@teachagmn.org
SUMMARY:NAAE National #TeachAg Workshop - Step Up to the Plate: #TeachAg 
DESCRIPTION:Get ready to step up to the plate and explore a career teaching agriculture! Join us for the NAAE National #TeachAg Workshops where you’ll discover what it means to be part of an amazing team of agricultural educators across the nation. \nDuring this interactive session\, you’ll learn how your skills can make you a standout in the classroom\, hear from educators who are making an impact\, and even create your own #TeachAg baseball card to trade during convention. It’s your chance to see how you can hit a home run with a career in teaching agriculture. Bring your energy and your game face. Let’s #TeachAg! \n\nThursday\, October 30 -12:00 p.m. – 1:00 p.m.\, in rooms 134-135 of the Indiana Convention Center (ICC)\nFriday\, October 31 – 9:00 a.m. – 10:00 a.m.\, in rooms 134-135 of the Indiana Convention Center (ICC)\n\nMore NAAE at the National FFA Convention events.
URL:https://teachagmn.org/event/naae-national-teachag-workshop-step-up-to-the-plate-teachag/
LOCATION:MN
END:VEVENT
BEGIN:VEVENT
DTSTART;VALUE=DATE:20250918
DTEND;VALUE=DATE:20250919
DTSTAMP:20260424T104730
CREATED:20250506T163851Z
LAST-MODIFIED:20250819T204233Z
UID:17730-1758153600-1758239999@teachagmn.org
SUMMARY:National #TeachAg Day — September 18\, 2025
DESCRIPTION:Minnesota is joining the nationwide celebration of National Teach Ag Day on Thursday\, September 18\, 2025! This day recognizes the incredible impact of agricultural education and the teachers who make it possible.\nMinnesota’s Celebration\nWhile National Teach Ag Day is observed across the country\, Minnesota’s focus is simple and powerful: agricultural education changes lives and Minnesota needs more passionate teachers.\nThroughout September\, Minnesota Teach Ag will share facts\, stories\, and highlights leading up to Teach Ag Day\, with the biggest celebration happening on September 18.\nHow to Participate\n\nAgriculture Teachers: Celebrate with your students by taking a group photo on Sept 18 and posting it on social media tagging our Teach Ag Minnesota social media account.\nStudents & Alumni: Thank an agriculture teacher who has made a difference in your life.\nFFA Chapters & Schools: Share shout-outs and join the celebration online.\nCommunity Members: Follow along on social media and share how agricultural education has impacted you.\n\nSocial Media Celebration\nFollow Minnesota Teach Ag on Facebook\, Instagram\, and LinkedIn throughout September for:\n\nCountdown facts about agricultural education in Minnesota.\nQuotes from current and future ag teachers.\nTeacher and student highlights on Sept 18.\nA statewide recap collage after the celebration.\n\nWhy Celebrate?\nAgriculture teachers prepare students not only for careers in agriculture\, food\, and natural resources but also for leadership\, teamwork\, and lifelong success. Teach Ag Day is a chance to thank them\, spotlight their impact\, and inspire the next generation of agricultural educators.\nFor more details on becoming an ag teacher in Minnesota\, visit https://teachagmn.org/become-an-ag-teacher.\n			\n							Sign Up Your High School Program\n					\n	\nFor Collegiate Ag Ed Programs\nThe collegiate version adds a recruitment and leadership twist – invite a group of high schoolers to campus or travel to a local classroom and lead the challenge as part of your own teaching experience. It’s a win-win: hands-on practice for future teachers and early exposure for future students.\n			\n							Sign Up Collegiate Agricultural Education Programs\n					\n	It Starts in the Classroom – Documentary Feature\nLooking to take your celebration even further? Show your students the 20-minute NAAE documentary\, It Starts in the Classroom\, featuring Brandon Bixler and Whitney Evans as they train to become ag teachers. It’s a powerful tool to spark interest and highlight real journeys into the profession.\n			\n							It Starts in the Classroom Documentary
URL:https://teachagmn.org/event/national-teachag-day-september-18-2025/
LOCATION:MN
CATEGORIES:Teach Ag Opportunities
END:VEVENT
BEGIN:VEVENT
DTSTART;VALUE=DATE:20250708
DTEND;VALUE=DATE:20250712
DTSTAMP:20260424T104730
CREATED:20250506T173335Z
LAST-MODIFIED:20250605T140924Z
UID:17736-1751932800-1752278399@teachagmn.org
SUMMARY:MAAE Summer Conference — July 8–11\, 2025 | Hinckley\, MN
DESCRIPTION:Join agricultural educators from across Minnesota for the MAAE Annual Summer Conference\, happening July 8-11 in Hinckley. This multi-day professional development event features continuing education workshops\, committee meetings\, networking opportunities\, and sectional updates for high school\, FBM\, and post-secondary instructors.\nAttendees can expect hands-on sessions\, teacher induction and mentorship programming\, exhibit displays\, and time to connect with colleagues-including evening events like the Past Presidents Dinner\, picnic and tournaments\, and the annual banquet.\nWhether you’re new to the profession or a seasoned educator\, the MAAE Summer Conference is a valuable opportunity to learn\, collaborate\, and celebrate agricultural education in Minnesota.\nWhen: July 8-11\, 2025Where: Grand Casino Hinckley\, Hinckley\, MNWho: Open to all agricultural educators\, student teachers\, and supporters.\n			\n							Summer Conference Details
URL:https://teachagmn.org/event/maae-summer-conference-july-8-11-2025-hinckley-mn/
LOCATION:Grand Casino Hinckley\, 777 Lady Luck Dr\, Hinckley\, MN\, 55037\, United States
END:VEVENT
BEGIN:VEVENT
DTSTART;TZID=America/Chicago:20250429T080000
DTEND;TZID=America/Chicago:20250429T170000
DTSTAMP:20260424T104730
CREATED:20250317T174654Z
LAST-MODIFIED:20250317T175716Z
UID:17695-1745913600-1745946000@teachagmn.org
SUMMARY:Teach Ag Signing at 2025 MN FFA Convention
DESCRIPTION:Join us at the Minnesota FFA State Convention on April 29\, 2025\, to celebrate the next generation of agriculture\, food\, and natural resources (AFNR) educators! Teach Ag Signing Day recognizes students starting a Teacher Education program in fall 2025 — including high school seniors\, transfers\, and those changing majors. \nParticipants will be recognized onstage\, sign their commitment certificate\, and have their moment captured in a professional photo. This event highlights the vital role of AFNR educators and strengthens the future of agricultural education in Minnesota. \nTo nominate a student\, complete the nomination form by April 7\, 2025. Don’t miss this chance to support future ag teachers!
URL:https://teachagmn.org/event/teach-ag-signing-at-mn-ffa-convention/
LOCATION:Minnesota Teach Ag\, MN
CATEGORIES:Teach Ag Opportunities
END:VEVENT
BEGIN:VEVENT
DTSTART;TZID=America/Chicago:20250428T090000
DTEND;TZID=America/Chicago:20250428T133000
DTSTAMP:20260424T104730
CREATED:20250317T175557Z
LAST-MODIFIED:20250317T175806Z
UID:17700-1745830800-1745847000@teachagmn.org
SUMMARY:Career Connections at 2025 MN FFA Convention
DESCRIPTION:Minnesota Teach Ag is excited to participate in Career Connections at the Minnesota FFA State Convention on Monday\, April 28\, 2025\, from 9:00 am to 1:30 pm at the 4-H Building on the Minnesota State Fairgrounds (1412 Cosgrove St\, Falcon Heights\, MN). \nStop by our booth to explore the rewarding path of Agricultural Education and share the qualities you admire most in your agriculture teachers. Don’t miss this chance to discover how you can make a lasting impact as a future educator!
URL:https://teachagmn.org/event/career-connections-at-2025-mn-ffa-convention/
LOCATION:4-H Building\, 1412 Cosgrove Street\, Falcon Heights\, MN\, United States
CATEGORIES:Teach Ag Opportunities
END:VEVENT
BEGIN:VEVENT
DTSTART;TZID=America/Chicago:20250314T090000
DTEND;TZID=America/Chicago:20250314T140000
DTSTAMP:20260424T104730
CREATED:20241205T160339Z
LAST-MODIFIED:20250128T144313Z
UID:17389-1741942800-1741960800@teachagmn.org
SUMMARY:Change Lives\, Teach Ag Conference
DESCRIPTION:On Friday\, March 14th\, a Change Lives\, Teach Ag Conference will be held at Central Lakes College in Staples\, Minnesota. The CLTA Conference will begin at 9 am and conclude at 2 pm. Participants will engage in workshops\, hear keynote speakers\, learn about post-secondary Ag Ed programs in Minnesota\, and celebrate the opportunities that agricultural education can provide. \nNominations should be made by Monday\, February 10. Students will be notified of their acceptance by Friday\, February 21. \nMake a Nomination
URL:https://teachagmn.org/event/change-lives-teach-ag-conference/
LOCATION:Central Lakes College\, 1830 Airport Rd\, Staples\, MN\, United States
CATEGORIES:Teach Ag Opportunities
END:VEVENT
BEGIN:VEVENT
DTSTART;TZID=America/Chicago:20250117T130000
DTEND;TZID=America/Chicago:20250117T170000
DTSTAMP:20260424T104730
CREATED:20241205T155947Z
LAST-MODIFIED:20241212T181432Z
UID:17381-1737118800-1737133200@teachagmn.org
SUMMARY:Future Agriscience Teacher Symposium
DESCRIPTION:The Midwest Regional Future Agriscience Teacher (FAST) Symposium is a professional development experience for preservice agricultural education majors which provides customized professional development\, networking\, and mentoring with current and future agriculture teachers and stakeholders. \nLearn More About the Event
URL:https://teachagmn.org/event/future-agriscience-teacher-symposium/
LOCATION:Best Western Kelly Inn\, 100 4th Ave S\, St. Cloud\, MN\, 56301\, United States
END:VEVENT
BEGIN:VEVENT
DTSTART;VALUE=DATE:20241209
DTEND;VALUE=DATE:20241210
DTSTAMP:20260424T104730
CREATED:20241205T160204Z
LAST-MODIFIED:20241205T161939Z
UID:17385-1733702400-1733788799@teachagmn.org
SUMMARY:Minnesota FFA State Leadership Conference
DESCRIPTION:Change Lives\, Teach Ag Workshop \nCome join us for a one-hour workshop at the Minnesota FFA State Leadership Conference. No invite required. Register through your local FFA chapter.
URL:https://teachagmn.org/event/minnesota-ffa-state-leadership-conference/
LOCATION:St. Cloud State University\, 720 4th Ave. S.\, St. Cloud\, MN\, 56301\, United States
CATEGORIES:Teach Ag Opportunities
END:VEVENT
END:VCALENDAR