BEGIN:VCALENDAR
VERSION:2.0
PRODID:-//Minnesota Teach Ag - ECPv6.15.20//NONSGML v1.0//EN
CALSCALE:GREGORIAN
METHOD:PUBLISH
X-ORIGINAL-URL:https://teachagmn.org
X-WR-CALDESC:Events for Minnesota Teach Ag
REFRESH-INTERVAL;VALUE=DURATION:PT1H
X-Robots-Tag:noindex
X-PUBLISHED-TTL:PT1H
BEGIN:VTIMEZONE
TZID:America/Chicago
BEGIN:DAYLIGHT
TZOFFSETFROM:-0600
TZOFFSETTO:-0500
TZNAME:CDT
DTSTART:20250309T080000
END:DAYLIGHT
BEGIN:STANDARD
TZOFFSETFROM:-0500
TZOFFSETTO:-0600
TZNAME:CST
DTSTART:20251102T070000
END:STANDARD
BEGIN:DAYLIGHT
TZOFFSETFROM:-0600
TZOFFSETTO:-0500
TZNAME:CDT
DTSTART:20260308T080000
END:DAYLIGHT
BEGIN:STANDARD
TZOFFSETFROM:-0500
TZOFFSETTO:-0600
TZNAME:CST
DTSTART:20261101T070000
END:STANDARD
BEGIN:DAYLIGHT
TZOFFSETFROM:-0600
TZOFFSETTO:-0500
TZNAME:CDT
DTSTART:20270314T080000
END:DAYLIGHT
BEGIN:STANDARD
TZOFFSETFROM:-0500
TZOFFSETTO:-0600
TZNAME:CST
DTSTART:20271107T070000
END:STANDARD
END:VTIMEZONE
BEGIN:VEVENT
DTSTART;VALUE=DATE:20260707
DTEND;VALUE=DATE:20260711
DTSTAMP:20260420T065441
CREATED:20260316T182210Z
LAST-MODIFIED:20260316T182404Z
UID:17987-1783382400-1783727999@teachagmn.org
SUMMARY:MAAE Summer Conference — July 8–11\, 2026 | St. Cloud\, MN
DESCRIPTION:Join agricultural educators from across Minnesota for the MAAE Annual Summer Conference\, happening July 7-10 in St. Cloud. This multi-day professional development event features continuing education workshops\, committee meetings\, networking opportunities\, and sectional updates for high school\, FBM\, and post-secondary instructors. \nAttendees can expect hands-on sessions\, teacher induction and mentorship programming\, exhibit displays\, and time to connect with colleagues—including evening events like the Past Presidents Dinner\, picnic and tournaments\, and the annual banquet. \nWhether you’re new to the profession or a seasoned educator\, the MAAE Summer Conference is a valuable opportunity to learn\, collaborate\, and celebrate agricultural education in Minnesota. \nWhen: July 7-10\, 2026Where: Holiday Inn\, St. Cloud\, MNWho: Open to all agricultural educators\, student teachers\, and supporters.
URL:https://teachagmn.org/event/maae-summer-conference-july-2026-st-cloud-mn/
LOCATION:MN
END:VEVENT
END:VCALENDAR