BEGIN:VCALENDAR
VERSION:2.0
PRODID:-//Minnesota Teach Ag - ECPv6.15.20//NONSGML v1.0//EN
CALSCALE:GREGORIAN
METHOD:PUBLISH
X-WR-CALNAME:Minnesota Teach Ag
X-ORIGINAL-URL:https://teachagmn.org
X-WR-CALDESC:Events for Minnesota Teach Ag
REFRESH-INTERVAL;VALUE=DURATION:PT1H
X-Robots-Tag:noindex
X-PUBLISHED-TTL:PT1H
BEGIN:VTIMEZONE
TZID:America/Chicago
BEGIN:DAYLIGHT
TZOFFSETFROM:-0600
TZOFFSETTO:-0500
TZNAME:CDT
DTSTART:20240310T080000
END:DAYLIGHT
BEGIN:STANDARD
TZOFFSETFROM:-0500
TZOFFSETTO:-0600
TZNAME:CST
DTSTART:20241103T070000
END:STANDARD
BEGIN:DAYLIGHT
TZOFFSETFROM:-0600
TZOFFSETTO:-0500
TZNAME:CDT
DTSTART:20250309T080000
END:DAYLIGHT
BEGIN:STANDARD
TZOFFSETFROM:-0500
TZOFFSETTO:-0600
TZNAME:CST
DTSTART:20251102T070000
END:STANDARD
BEGIN:DAYLIGHT
TZOFFSETFROM:-0600
TZOFFSETTO:-0500
TZNAME:CDT
DTSTART:20260308T080000
END:DAYLIGHT
BEGIN:STANDARD
TZOFFSETFROM:-0500
TZOFFSETTO:-0600
TZNAME:CST
DTSTART:20261101T070000
END:STANDARD
BEGIN:DAYLIGHT
TZOFFSETFROM:-0600
TZOFFSETTO:-0500
TZNAME:CDT
DTSTART:20270314T080000
END:DAYLIGHT
BEGIN:STANDARD
TZOFFSETFROM:-0500
TZOFFSETTO:-0600
TZNAME:CST
DTSTART:20271107T070000
END:STANDARD
END:VTIMEZONE
BEGIN:VEVENT
DTSTART;VALUE=DATE:20250202
DTEND;VALUE=DATE:20260202
DTSTAMP:20260420T051804
CREATED:20250506T161747Z
LAST-MODIFIED:20251223T150531Z
UID:17721-1738454400-1769990399@teachagmn.org
SUMMARY:MAELC Agricultural Education for All Scholarship — Deadline: February 1
DESCRIPTION:Do you aspire to become an agriculture teacher and create a welcoming classroom where every student belongs? The Minnesota Agricultural Education Leadership Council (MAELC) invites undergraduate and graduate students to apply for the Agricultural Education for All Scholarship-a program created to expand access to the teaching profession and support students from all backgrounds. \nScholarship Deadlines:\nApplications accepted once per year – February 1 \nAbout the Scholarship:\nThis scholarship provides up to $5\,000 per recipient to help students pursuing licensure in Agricultural Education. Priority will be given to those entering their first year or those who have not previously received MAELC scholarship funding\, though all eligible candidates are encouraged to apply. MAELC believes that increasing diversity in ag classrooms fosters student belonging and strengthens the future of agricultural education in Minnesota. \nWho Can Apply:\n\nUndergraduate students entering or enrolled in Agricultural Education-Teacher Licensure programs at:\n\nSouthwest Minnesota State University\nUniversity of Minnesota-Crookston\nUniversity of Minnesota-Twin Cities\n\n\nGraduate students entering or enrolled in the M.S. Initial or Additional Licensure program in Ag Ed at the U of M – Twin Cities.\nStudents may apply prior to formal acceptance into a program.\nStudents from a traditionally underrepresented group in the agriculture teaching field are encouraged to apply. Applicants must be U.S. citizens or permanent residents with a firm commitment to teaching in Minnesota.\n\nSelection Process:\nApplications are evaluated based on academic merit\, passion\, and commitment to become an agricultural education teacher\, as well as financial need. \nApplication Requirements Include:\n\nResponses to four short essay questions (max 300 words each)\nResume\nUnofficial transcript\n\n Apply Today!
URL:https://teachagmn.org/event/maelc-agricultural-education-for-all-scholarship-deadline/
LOCATION:MN
ORGANIZER;CN="MAELC":MAILTO:opdah012@umn.edu
END:VEVENT
END:VCALENDAR